BEGIN:VCALENDAR
VERSION:2.0
PRODID:-//A.D.L.I. - ECPv6.15.12.2//NONSGML v1.0//EN
CALSCALE:GREGORIAN
METHOD:PUBLISH
X-WR-CALNAME:A.D.L.I.
X-ORIGINAL-URL:https://associazioneadli.org
X-WR-CALDESC:Eventi per A.D.L.I.
REFRESH-INTERVAL;VALUE=DURATION:PT1H
X-Robots-Tag:noindex
X-PUBLISHED-TTL:PT1H
BEGIN:VTIMEZONE
TZID:UTC
BEGIN:STANDARD
TZOFFSETFROM:+0000
TZOFFSETTO:+0000
TZNAME:UTC
DTSTART:20240101T000000
END:STANDARD
END:VTIMEZONE
BEGIN:VEVENT
DTSTART;TZID=UTC:20250210T090000
DTEND;TZID=UTC:20250210T130000
DTSTAMP:20260423T102009
CREATED:20241116T135111Z
LAST-MODIFIED:20241116T140109Z
UID:15620-1739178000-1739192400@associazioneadli.org
SUMMARY:Aggiornamento R.L.S.
DESCRIPTION:L’aggiornamento del Corso di Formazione per R.L.S. Rappresentante dei Lavori per la Sicurezza assolve gli obblighi previsti dall’articolo 37 comma 10 e Accordo Stato-Regioni n. 128/CSR del 07/07/16.\nIl Rappresentante dei Lavoratori per la Sicurezza ha diritto ad una formazione particolare in materia di salute e sicurezza\, concernente i rischi specifici esistenti negli ambiti in cui esercita la propria rappresentanza\, tale da assicurargli adeguate competenze sulle principali tecniche di controllo e prevenzione dei rischi stessi. \n\n\n\nScheda del Corso\n\n\nSvolgimento\nVideoconferenza\n\n\nOre totali\n4 Ore\n\n\nAttestato\nRilascio attestato con profitto validato da Soggetto Formatore\n\n\nRequisiti\nEssere lavoratori assunti in azienda\n\n\nDestinatari\nRivolto a uno o più lavoratori eletti o designati per rappresentare i restanti dipendenti dell’azienda per quanto concerne gli aspetti della salute e della sicurezza durante il lavoro.\n\n\nProgramma\nRuolo\, compiti\, e caratteristiche del R.L.S.; \nla figura del Rappresentante dei Lavoratori per la Sicurezza\, principi giuridici comunitari e nazionali\, \nLegislazione italiana in materia di salute e sicurezza sul lavoro\, principali; \nsoggetti coinvolti nella prevenzione e relativi obblighi; \nLa definizione e l’individuazione dei fattori di rischio\, la Valutazione dei Rischi\, definizione ed individuazione dei fattori di rischio; \nAspetti normativi dell’attività di rappresentanza dei lavoratori. \nIndividuazione delle misure tecniche\, organizzative e procedurali di prevenzione e protezione. \nNozioni di tecnica della comunicazione .\n\n\n\nRichiedi iscrizione al corso\n[gravityform id=”16″ title=”false” description=”false”]
URL:https://associazioneadli.org/event/aggiornamento-r-l-s-copy-5/
CATEGORIES:Corsi in videoconferenza
END:VEVENT
BEGIN:VEVENT
DTSTART;TZID=UTC:20250210T140000
DTEND;TZID=UTC:20250210T180000
DTSTAMP:20260423T102009
CREATED:20241117T074034Z
LAST-MODIFIED:20241117T074034Z
UID:15740-1739196000-1739210400@associazioneadli.org
SUMMARY:Addetto alla segnaletica stradale - operatore
DESCRIPTION:Il Corso di formazione per addetto alle attività di pianificazione\, controllo e apposizione della segnaletica stradale in presenza di traffico veicolare – Operatore è obbligatorio per tutti coloro che intendono svolgere funzioni di pianificazione\, controllo e apposizione di segnaletica stradale in luoghi con presenza di traffico veicolare. La formazione viene erogata secondo le disposizioni contenute nell’allegato II del Decreto Interministeriale del\n22.01.2019. \n  \n\n\n\nScheda del Corso\n\n\nSvolgimento\nVideoconferenza\n\n\nOre totali\n8 Ore di cui 4 in videoconferenza\n\n\nAttestato\nRilascio attestato con profitto validato da Soggetto Formatore.\n\n\nRequisiti\nMaggiore età\, sufficiente comprensione della lingua italiana e Idoneità Sanitaria dal punto di vista psichico e fisico.\n\n\nDestinatari\nIl corso è rivolto a tutti i lavoratori che svolgono funzione di preposto addetto alle attività di pianificazione\, controllo e\napposizione di segnaletica stradale destinata alle attività lavorative che si svolgono in presenza di traffico veicolare.\n\n\nProgramma\nl Modulo Giuridico-Normativo (della durata di 1 ora\, sia Elearning che aula)\nCenni sulla legislazione generale di sicurezza in materia di prevenzione infortuni con particolare riferimento ai cantieri\ntemporanei e mobili in presenza di traffico. Cenni sugli articoli del Codice della Strada e del suo regolamento di\nattuazione\, che disciplinano l’esecuzione di opere\, depositi e l’apertura di cantieri sulle strade di ogni classe; – Cenni\nsull’analisi dei rischi a cui sono esposti i lavoratori in presenza di traffico e di quelli trasmessi agli utenti; – Cenni sulle statistiche degli infortuni e delle violazioni delle norme nei cantieri stradali in presenza di traffico.Modulo Tecnico (della durata di 3 ore\, sia Elearning che aula)\nNozioni sulla segnaletica temporanea. I dispositivi di protezione individuale: indumenti ad alta visibilità; – organizzazione\ndel lavoro in squadra\, compiti degli operatori e modalità di comunicazione. Norme operative e comportamentali per\nl’esecuzione in sicurezza di interventi programmati e di emergenza.Modulo Pratico (della durata di 4 ore in aula)\nTecniche di installazione e rimozione della segnaletica per cantieri stradali su: strade di tipo A\, B\, D (autostrade\,\nstrade extraurbane principali\, strade urbane di scorrimento); strade di tipo C\, F (strade extraurbane secondarie e locali\nextraurbane); strade di tipo E\, F (strade urbane di quartiere e locali urbane); – tecniche di intervento mediante “cantieri\nmobili”; tecniche di intervento in sicurezza per situazioni di emergenza.\n\n\n\nRichiedi iscrizione al corso\nAbilita JavaScript nel browser per completare questo modulo.Abilita JavaScript nel browser per completare questo modulo.Sei convenzionato alla Associazione A.D.L.I.?* *SINONome *Cognome *Codice Fiscale *Vuoi iscrivere altri discenti? *SINOTipo di discente *AziendaPrivatoLibero ProfessionistaAltroEmail *Telefono *Ragione SocialeCodice promozionaleTrattamento dati personali *Autorizzo al trattamento dei dati personali in base al GDPR 2016/679 l'Associazione A.D.L.I. Informativa completa disponibile a questo indirizzo.Caselle di spunta *Autorizzo l'Associazione A.D.L.I. ad inviarmi informazioni sulle attività promosse da essa o da società ad essa collegateInvia
URL:https://associazioneadli.org/event/addetto-alla-segnaletica-stradale-operatore-13/
CATEGORIES:Corsi in videoconferenza
END:VEVENT
END:VCALENDAR