BEGIN:VCALENDAR
VERSION:2.0
PRODID:-//A.D.L.I. - ECPv6.15.12.2//NONSGML v1.0//EN
CALSCALE:GREGORIAN
METHOD:PUBLISH
X-WR-CALNAME:A.D.L.I.
X-ORIGINAL-URL:https://associazioneadli.org
X-WR-CALDESC:Eventi per A.D.L.I.
REFRESH-INTERVAL;VALUE=DURATION:PT1H
X-Robots-Tag:noindex
X-PUBLISHED-TTL:PT1H
BEGIN:VTIMEZONE
TZID:UTC
BEGIN:STANDARD
TZOFFSETFROM:+0000
TZOFFSETTO:+0000
TZNAME:UTC
DTSTART:20240101T000000
END:STANDARD
END:VTIMEZONE
BEGIN:VEVENT
DTSTART;TZID=UTC:20250110T090000
DTEND;TZID=UTC:20250110T180000
DTSTAMP:20260423T112455
CREATED:20241116T143019Z
LAST-MODIFIED:20241116T143019Z
UID:15698-1736499600-1736532000@associazioneadli.org
SUMMARY:R.S.P.P. Datore di Lavoro - Rischio Basso
DESCRIPTION:Il Corso di formazione per R.S.P.P. datore di lavoro rischio basso assolve gli obblighi indicati nel D.lgs 81/08 e s.m.i.\, gli aggiornamenti dell’ultimo Accordo Stato Regioni in materia di prima formazione ed aggiornamento dei Titolari e Datori di lavoro che hanno assunto direttamente l’incarico di responsabili del Servizio di Prevenzione e Protezione della Salute sui luoghi di lavoro per le aziende a basso rischio. \nModalità \nIl percorso formativo si articola in 4 moduli di cui 2 sono erogati in modalità elearning e 2 in videoconferenza: Modulo 1\, Normativo–Giuridico\, della durata di 4 ore fruibile in modalità elearning\, Modulo 2: Gestionale – Gestione ed organizzazione della sicurezza\, della durata di 4 ore fruible in modalità elearning\, Modulo 3: Individuazione e valutazione dei rischi\, della durata di 4 ore fruibile esclusivamente in videoconferenza ed infine il Modulo 4: Formazione e consultazione dei lavoratori\, anche questo fruibile esclusivamente in videoconferenza. \n\n\n\nScheda del Corso\n\n\nSvolgimento\nVideoconferenza\n\n\nOre totali\n16 Ore totali di cui 8 in modalità elearning\n\n\nAttestato\nRilascio attestato con profitto validato da Soggetto Formatore\n\n\nRequisiti\nCompletamento della parte teorica in elearning\n\n\nDestinatari\nDatori di lavoro e titolari delle imprese a rischio basso che si designano quali responsabili del servizio di prevenzione e protezione.\n\n\nProgramma\nMODULO NORMATIVO-GIURIDICO: Il sistema legislativo in materia di sicurezza dei lavoratori\, la responsabilità civile e penale e la tutela assicurativa\, la responsabilità amministrativa delle persone giuridiche\, delle società e delle associazioni anche prive di responsabilità giuridica ex D. Lgs. 231/2001 e s.m.i.\, il sistema istituzionale della prevenzione\, i soggetti del sistema di prevenzione aziendale secondo il D. Lgs. 81/08: compiti\, obblighi e responsabilità\, il sistema di qualificazione delle imprese. \nMODULO GESTIONALE: I criteri e gli strumenti per l’individuazione e la valutazione dei rischi\, la considerazione degli infortuni mancati e delle modalità di accadimento degli stessi\, la considerazione delle risultanze delle attività di partecipazione dei lavoratori\, il documenti di valutazione dei rischi (contenuti\, specificità e metodologie)\, i modelli di organizzazione e gestione della sicurezza\, gli obblighi connessi ai contratti d’appalto o d’opera o di somministrazione\, il documento unico di valutazione dei rischi da interferenza\, la gestione della documentazione tecnico amministrativa\, l’organizzazione della prevenzione incendi\, del primo soccorso e della gestione delle emergenze. \nMODULO TECNICO-INDIVIDUAZIONE E VALUTAZIONE DEI RISCHI: I principali fattori di rischio e le relative misure tecniche\, organizzative e procedurali di prevenzione e protezione\, il rischio da Stress Lavoro Correlato\, i rischi ricollegabili al genere\, all’età ed alla provenienza da altri paesi\, i dispositivi di protezione individuale\, la sorveglianza sanitaria. \nMODULO RELAZIONALE – FORMAZIONE E CONSULTAZIONE DEI LAVORATORI: L’informazione\, la formazione e l’addestramento\, le tecniche di comunicazione\, il sistema delle relazioni aziendali e della comunicazione in azienda\, la consultazione e la partecipazione dei rappresentanti dei lavoratori per la sicurezza\, natura\, funzioni e modalità di nomina o di elezione dei rappresentanti dei lavoratori per la sicurezza.\n\n\n\nRichiedi iscrizione al corso\nAbilita JavaScript nel browser per completare questo modulo.Abilita JavaScript nel browser per completare questo modulo.Sei convenzionato alla Associazione A.D.L.I.?* *SINONome *Cognome *Codice Fiscale *Vuoi iscrivere altri discenti? *SINOTipo di discente *AziendaPrivatoLibero ProfessionistaAltroEmail *Telefono *Ragione SocialeCodice promozionaleTrattamento dati personali *Autorizzo al trattamento dei dati personali in base al GDPR 2016/679 l'Associazione A.D.L.I. Informativa completa disponibile a questo indirizzo.Caselle di spunta *Autorizzo l'Associazione A.D.L.I. ad inviarmi informazioni sulle attività promosse da essa o da società ad essa collegateInvia
URL:https://associazioneadli.org/event/r-s-p-p-datore-di-lavoro-rischio-basso-34/
CATEGORIES:Corsi in videoconferenza
END:VEVENT
BEGIN:VEVENT
DTSTART;TZID=UTC:20250110T090000
DTEND;TZID=UTC:20250110T180000
DTSTAMP:20260423T112455
CREATED:20241117T084741Z
LAST-MODIFIED:20241117T084741Z
UID:15851-1736499600-1736532000@associazioneadli.org
SUMMARY:PES - PAV - PEI
DESCRIPTION:Il Corso di formazione PES PAV fornisce all’operatore le conoscenze teoriche propedeutiche alla nomina\, da parte del datore di lavoro ai sensi della Norma CEI EN\n50110 – 1 e CEI 11 – 27\, di Persona esperta (PES) o di Persona avvertita (PAV)\, nonché l’attestazione della “idoneità” a svolgere tali lavori. PERSONA ESPERTA (PES):\n“Persona con istruzione\, conoscenza ed esperienza rilevanti tali da consentirle di analizzare i rischi e di evitare i pericoli che l’elettricità può creare”. In particolare si tratta\ndi persona che\, con adeguata attività e/o percorso formativo e maturata esperienza\, ha acquisito conoscenze generali dell’antinfortunistica elettrica ed una approfondita\nconoscenza della problematica infortunistica per almeno una precisa tipologia di lavori; deve essere anche capace di affrontare in autonomia l’organizzazione e\nl’esecuzione in sicurezza di qualsiasi lavoro di precisa tipologia e di individuare e prevenire i rischi elettrici connessi con il lavoro\, mettendo in atto le misure idonee a ridurli o a eliminarli. Fondamentale\, per poter qualificare una PES\, è inoltre la capacità di affrontare gli imprevisti che possono manifestarsi in occasione di lavori elettrici e la\ncapacità di informare e istruire correttamente una PAV affinché esegua un lavoro in sicurezza. PERSONA AVVERTITA (PAV): “Persona adeguatamente avvisata da persone\nesperte per metterla in grado di evitare i pericoli che l’elettricità può creare”. In particolare si tratta di persona che\, con adeguata formazione\, ha acquisito conoscenza\ndell’antinfortunistica elettrica relativa a precise tipologie di lavoro e capacità di comprendere le istruzioni fornite da una PES; deve avere la capacità di organizzare ed\neseguire in sicurezza un lavoro di una precisa tipologia dopo aver ricevuto istruzioni da una PES; inoltre deve possedere la capacità di affrontare le difficoltà previste e capacità di riconoscere ed affrontare i pericoli originati da imprevisti anche se potrebbe non essere in grado di affrontarli correttamente in autonomia. \n  \n\n\n\nScheda del Corso\n\n\nSvolgimento\nVideoconferenza\n\n\nOre totali\n8 Ore\n\n\nAttestato\nRilascio attestato con profitto validato da Soggetto Formatore.\n\n\nRequisiti\nNessun requisito minimo.\n\n\nDestinatari\nTutti i lavoratori di qualsiasi azienda\, impresa\, servizi\, nel settore privato ed il quello pubblico\, con qualsiasi tipologia di contratto (fisso\, progetto\, temporale\, atipico) che lavorano su apparecchiature elettriche\, agli elettricisti\, addetti ai lavori elettrici di installazione e manutenzione degli impianti elettrici fuori tensione e in tensione su impianti fino a 1000 V.\n\n\nProgramma\nConcetti generali di sicurezza elettrica\, legislazione sulla sicurezza elettrica\, elementi di primo soccorso\, la qualificazione del personale nei lavori elettrici\, i DPI ed Attrezzature\, le norme tecniche e i lavori elettrici.\n\n\n\nRichiedi iscrizione al corso\nAbilita JavaScript nel browser per completare questo modulo.Abilita JavaScript nel browser per completare questo modulo.Sei convenzionato alla Associazione A.D.L.I.?* *SINONome *Cognome *Codice Fiscale *Vuoi iscrivere altri discenti? *SINOTipo di discente *AziendaPrivatoLibero ProfessionistaAltroEmail *Telefono *Ragione SocialeCodice promozionaleTrattamento dati personali *Autorizzo al trattamento dei dati personali in base al GDPR 2016/679 l'Associazione A.D.L.I. Informativa completa disponibile a questo indirizzo.Caselle di spunta *Autorizzo l'Associazione A.D.L.I. ad inviarmi informazioni sulle attività promosse da essa o da società ad essa collegateInvia
URL:https://associazioneadli.org/event/pes-pav-pei-12/
CATEGORIES:Corsi in videoconferenza
END:VEVENT
END:VCALENDAR