BEGIN:VCALENDAR
VERSION:2.0
PRODID:-//A.D.L.I. - ECPv6.15.12.2//NONSGML v1.0//EN
CALSCALE:GREGORIAN
METHOD:PUBLISH
X-WR-CALNAME:A.D.L.I.
X-ORIGINAL-URL:https://associazioneadli.org
X-WR-CALDESC:Eventi per A.D.L.I.
REFRESH-INTERVAL;VALUE=DURATION:PT1H
X-Robots-Tag:noindex
X-PUBLISHED-TTL:PT1H
BEGIN:VTIMEZONE
TZID:UTC
BEGIN:STANDARD
TZOFFSETFROM:+0000
TZOFFSETTO:+0000
TZNAME:UTC
DTSTART:20240101T000000
END:STANDARD
END:VTIMEZONE
BEGIN:VEVENT
DTSTART;TZID=UTC:20250107T090000
DTEND;TZID=UTC:20250107T130000
DTSTAMP:20260423T112422
CREATED:20241116T144503Z
LAST-MODIFIED:20241116T144503Z
UID:15726-1736240400-1736254800@associazioneadli.org
SUMMARY:Corso di formazione per Lavori in quota e uso D.P.I. 3^ Categoria
DESCRIPTION:L’Art. 107 del D.Lgs. 81/08 definisce il lavoro in quota “l’attività lavorativa che espone il lavoratore a rischio di caduta\, da una quota posta ad altezza maggiore di 2 mt\, rispetto ad un piano stabile. Qualora non siano state adottate misure di protezione collettiva\, considerate comunque come prioritarie dal legislatore\, è necessario prevedere l’uso di sistemi di arresto caduta\, descritti dall’Art. 115 dello stesso Testo. L’Art. 77 impone infine l’obbligo di formazione ed addestramento circa l’uso corretto e l’utilizzo pratico con i DPI di III Categoria\, che ricomprende i dispositivi di arresto caduta\, per tutti i lavoratori che ne debbano fare uso. \nIl Corso di formazione per D.P.I: 3° Categoria (della durata di 4 ore)\, assolve agli obblighi indicati nel Art. 73 comma 7 e 73 del D.lgs. 81/08\, e s.m.i. . E’ destinato ai lavoratori che effettuano lavori in quota. \n\n\n\nScheda del Corso\n\n\nSvolgimento\nAula\n\n\nOre totali\n8 Ore\n\n\nAttestato\nRilascio attestato con profitto validato da Soggetto Formatore\n\n\nRequisiti\nAver terminato la parte teorica online\n\n\nDestinatari\nAddetti ai lavori in quota\n\n\nProgramma\nModulo Pratico \nDefinizione di lavoro e normativa vigente\, obbligo del datore di lavoro\, dei dirigenti e dei preposti\, obblighi dei lavoratori\, esempi di lavori in quota\, mezzi di salita in quota: scale\, trabattelli\, ponteggi\, piattaforme \,ecc.. . Sistemi di protezione contro le cadute dall’alto\, sistemi di ancoraggio per copertura. \nProtezione individuale e DPI Adeguatezza nella scelta dei DPI Obblighi dei lavoratori nell’uso dei DPI; La tipologia di DPI di terza categoria; Normativa di riferimento; Caratteristiche dei DPI per la protezione delle cadute dall’alto; La nota informativa del fabbricante; Durata\, manutenzione e conservazione dei DPI oggetto della formazione; Procedura di verifica e controllo dei DPI oggetto della formazione; Uso e limitazioni di utilizzo dei DPI oggetto della formazione; Tirante d’aria nei sistemi anticaduta e fattore di caduta.\n\n\n\nRichiedi iscrizione al corso\nAbilita JavaScript nel browser per completare questo modulo.Abilita JavaScript nel browser per completare questo modulo.Sei convenzionato alla Associazione A.D.L.I.?* *SINONome *Cognome *Codice Fiscale *Vuoi iscrivere altri discenti? *SINOTipo di discente *AziendaPrivatoLibero ProfessionistaAltroEmail *Telefono *Ragione SocialeCodice promozionaleTrattamento dati personali *Autorizzo al trattamento dei dati personali in base al GDPR 2016/679 l'Associazione A.D.L.I. Informativa completa disponibile a questo indirizzo.Caselle di spunta *Autorizzo l'Associazione A.D.L.I. ad inviarmi informazioni sulle attività promosse da essa o da società ad essa collegateInvia
URL:https://associazioneadli.org/event/corso-di-formazione-per-lavori-in-quota-e-uso-d-p-i-3-categoria-29/
CATEGORIES:Corsi in videoconferenza
END:VEVENT
BEGIN:VEVENT
DTSTART;TZID=UTC:20250107T140000
DTEND;TZID=UTC:20250107T180000
DTSTAMP:20260423T112422
CREATED:20241116T134949Z
LAST-MODIFIED:20241116T140047Z
UID:15621-1736258400-1736272800@associazioneadli.org
SUMMARY:Aggiornamento R.L.S.
DESCRIPTION:L’aggiornamento del Corso di Formazione per R.L.S. Rappresentante dei Lavori per la Sicurezza assolve gli obblighi previsti dall’articolo 37 comma 10 e Accordo Stato-Regioni n. 128/CSR del 07/07/16.\nIl Rappresentante dei Lavoratori per la Sicurezza ha diritto ad una formazione particolare in materia di salute e sicurezza\, concernente i rischi specifici esistenti negli ambiti in cui esercita la propria rappresentanza\, tale da assicurargli adeguate competenze sulle principali tecniche di controllo e prevenzione dei rischi stessi. \n\n\n\nScheda del Corso\n\n\nSvolgimento\nVideoconferenza\n\n\nOre totali\n4 Ore\n\n\nAttestato\nRilascio attestato con profitto validato da Soggetto Formatore\n\n\nRequisiti\nEssere lavoratori assunti in azienda\n\n\nDestinatari\nRivolto a uno o più lavoratori eletti o designati per rappresentare i restanti dipendenti dell’azienda per quanto concerne gli aspetti della salute e della sicurezza durante il lavoro.\n\n\nProgramma\nRuolo\, compiti\, e caratteristiche del R.L.S.; \nla figura del Rappresentante dei Lavoratori per la Sicurezza\, principi giuridici comunitari e nazionali\, \nLegislazione italiana in materia di salute e sicurezza sul lavoro\, principali; \nsoggetti coinvolti nella prevenzione e relativi obblighi; \nLa definizione e l’individuazione dei fattori di rischio\, la Valutazione dei Rischi\, definizione ed individuazione dei fattori di rischio; \nAspetti normativi dell’attività di rappresentanza dei lavoratori. \nIndividuazione delle misure tecniche\, organizzative e procedurali di prevenzione e protezione. \nNozioni di tecnica della comunicazione .\n\n\n\nRichiedi iscrizione al corso\n[gravityform id=”16″ title=”false” description=”false”]
URL:https://associazioneadli.org/event/aggiornamento-r-l-s-copy-3/
CATEGORIES:Corsi in videoconferenza
END:VEVENT
END:VCALENDAR