BEGIN:VCALENDAR
VERSION:2.0
PRODID:-//A.D.L.I. - ECPv6.15.12.2//NONSGML v1.0//EN
CALSCALE:GREGORIAN
METHOD:PUBLISH
X-WR-CALNAME:A.D.L.I.
X-ORIGINAL-URL:https://associazioneadli.org
X-WR-CALDESC:Eventi per A.D.L.I.
REFRESH-INTERVAL;VALUE=DURATION:PT1H
X-Robots-Tag:noindex
X-PUBLISHED-TTL:PT1H
BEGIN:VTIMEZONE
TZID:UTC
BEGIN:STANDARD
TZOFFSETFROM:+0000
TZOFFSETTO:+0000
TZNAME:UTC
DTSTART:20230101T000000
END:STANDARD
END:VTIMEZONE
BEGIN:VEVENT
DTSTART;TZID=UTC:20241218T090000
DTEND;TZID=UTC:20241218T130000
DTSTAMP:20260423T135049
CREATED:20240612T135930Z
LAST-MODIFIED:20240612T135930Z
UID:15269-1734512400-1734526800@associazioneadli.org
SUMMARY:Corso di formazione per Lavori in quota e uso D.P.I. 3^ Categoria
DESCRIPTION:L’Art. 107 del D.Lgs. 81/08 definisce il lavoro in quota “l’attività lavorativa che espone il lavoratore a rischio di caduta\, da una quota posta ad altezza maggiore di 2 mt\, rispetto ad un piano stabile. Qualora non siano state adottate misure di protezione collettiva\, considerate comunque come prioritarie dal legislatore\, è necessario prevedere l’uso di sistemi di arresto caduta\, descritti dall’Art. 115 dello stesso Testo. L’Art. 77 impone infine l’obbligo di formazione ed addestramento circa l’uso corretto e l’utilizzo pratico con i DPI di III Categoria\, che ricomprende i dispositivi di arresto caduta\, per tutti i lavoratori che ne debbano fare uso. \nIl Corso di formazione per D.P.I: 3° Categoria (della durata di 4 ore)\, assolve agli obblighi indicati nel Art. 73 comma 7 e 73 del D.lgs. 81/08\, e s.m.i. . E’ destinato ai lavoratori che effettuano lavori in quota. \n\n\n\nScheda del Corso\n\n\nSvolgimento\nAula\n\n\nOre totali\n8 Ore\n\n\nAttestato\nRilascio attestato con profitto validato da Soggetto Formatore\n\n\nRequisiti\nAver terminato la parte teorica online\n\n\nDestinatari\nAddetti ai lavori in quota\n\n\nProgramma\nModulo Pratico \nDefinizione di lavoro e normativa vigente\, obbligo del datore di lavoro\, dei dirigenti e dei preposti\, obblighi dei lavoratori\, esempi di lavori in quota\, mezzi di salita in quota: scale\, trabattelli\, ponteggi\, piattaforme \,ecc.. . Sistemi di protezione contro le cadute dall’alto\, sistemi di ancoraggio per copertura. \nProtezione individuale e DPI Adeguatezza nella scelta dei DPI Obblighi dei lavoratori nell’uso dei DPI; La tipologia di DPI di terza categoria; Normativa di riferimento; Caratteristiche dei DPI per la protezione delle cadute dall’alto; La nota informativa del fabbricante; Durata\, manutenzione e conservazione dei DPI oggetto della formazione; Procedura di verifica e controllo dei DPI oggetto della formazione; Uso e limitazioni di utilizzo dei DPI oggetto della formazione; Tirante d’aria nei sistemi anticaduta e fattore di caduta.\n\n\n\nRichiedi iscrizione al corso\nAbilita JavaScript nel browser per completare questo modulo.Abilita JavaScript nel browser per completare questo modulo.Sei convenzionato alla Associazione A.D.L.I.?* *SINONome *Cognome *Codice Fiscale *Vuoi iscrivere altri discenti? *SINOTipo di discente *AziendaPrivatoLibero ProfessionistaAltroEmail *Telefono *Ragione SocialeCodice promozionaleTrattamento dati personali *Autorizzo al trattamento dei dati personali in base al GDPR 2016/679 l'Associazione A.D.L.I. Informativa completa disponibile a questo indirizzo.Caselle di spunta *Autorizzo l'Associazione A.D.L.I. ad inviarmi informazioni sulle attività promosse da essa o da società ad essa collegateInvia
URL:https://associazioneadli.org/event/corso-di-formazione-per-lavori-in-quota-e-uso-d-p-i-3-categoria-28/
CATEGORIES:Corsi in videoconferenza
END:VEVENT
BEGIN:VEVENT
DTSTART;TZID=UTC:20241218T140000
DTEND;TZID=UTC:20241218T180000
DTSTAMP:20260423T135049
CREATED:20240612T140715Z
LAST-MODIFIED:20241019T133427Z
UID:15277-1734530400-1734544800@associazioneadli.org
SUMMARY:Addetto alla segnaletica stradale - operatore
DESCRIPTION:Il Corso di formazione per addetto alle attività di pianificazione\, controllo e apposizione della segnaletica stradale in presenza di traffico veicolare – Operatore è obbligatorio per tutti coloro che intendono svolgere funzioni di pianificazione\, controllo e apposizione di segnaletica stradale in luoghi con presenza di traffico veicolare. La formazione viene erogata secondo le disposizioni contenute nell’allegato II del Decreto Interministeriale del\n22.01.2019. \n  \n\n\n\nScheda del Corso\n\n\nSvolgimento\nVideoconferenza\n\n\nOre totali\n8 Ore di cui 4 in videoconferenza\n\n\nAttestato\nRilascio attestato con profitto validato da Soggetto Formatore.\n\n\nRequisiti\nMaggiore età\, sufficiente comprensione della lingua italiana e Idoneità Sanitaria dal punto di vista psichico e fisico.\n\n\nDestinatari\nIl corso è rivolto a tutti i lavoratori che svolgono funzione di preposto addetto alle attività di pianificazione\, controllo e\napposizione di segnaletica stradale destinata alle attività lavorative che si svolgono in presenza di traffico veicolare.\n\n\nProgramma\nl Modulo Giuridico-Normativo (della durata di 1 ora\, sia Elearning che aula)\nCenni sulla legislazione generale di sicurezza in materia di prevenzione infortuni con particolare riferimento ai cantieri\ntemporanei e mobili in presenza di traffico. Cenni sugli articoli del Codice della Strada e del suo regolamento di\nattuazione\, che disciplinano l’esecuzione di opere\, depositi e l’apertura di cantieri sulle strade di ogni classe; – Cenni\nsull’analisi dei rischi a cui sono esposti i lavoratori in presenza di traffico e di quelli trasmessi agli utenti; – Cenni sulle statistiche degli infortuni e delle violazioni delle norme nei cantieri stradali in presenza di traffico.Modulo Tecnico (della durata di 3 ore\, sia Elearning che aula)\nNozioni sulla segnaletica temporanea. I dispositivi di protezione individuale: indumenti ad alta visibilità; – organizzazione\ndel lavoro in squadra\, compiti degli operatori e modalità di comunicazione. Norme operative e comportamentali per\nl’esecuzione in sicurezza di interventi programmati e di emergenza.Modulo Pratico (della durata di 4 ore in aula)\nTecniche di installazione e rimozione della segnaletica per cantieri stradali su: strade di tipo A\, B\, D (autostrade\,\nstrade extraurbane principali\, strade urbane di scorrimento); strade di tipo C\, F (strade extraurbane secondarie e locali\nextraurbane); strade di tipo E\, F (strade urbane di quartiere e locali urbane); – tecniche di intervento mediante “cantieri\nmobili”; tecniche di intervento in sicurezza per situazioni di emergenza.\n\n\n\nRichiedi iscrizione al corso\nAbilita JavaScript nel browser per completare questo modulo.Abilita JavaScript nel browser per completare questo modulo.Sei convenzionato alla Associazione A.D.L.I.?* *SINONome *Cognome *Codice Fiscale *Vuoi iscrivere altri discenti? *SINOTipo di discente *AziendaPrivatoLibero ProfessionistaAltroEmail *Telefono *Ragione SocialeCodice promozionaleTrattamento dati personali *Autorizzo al trattamento dei dati personali in base al GDPR 2016/679 l'Associazione A.D.L.I. Informativa completa disponibile a questo indirizzo.Caselle di spunta *Autorizzo l'Associazione A.D.L.I. ad inviarmi informazioni sulle attività promosse da essa o da società ad essa collegateInvia
URL:https://associazioneadli.org/event/addetto-alla-segnaletica-stradale-operatore-11/
CATEGORIES:Corsi in videoconferenza
END:VEVENT
END:VCALENDAR