BEGIN:VCALENDAR
VERSION:2.0
PRODID:-//A.D.L.I. - ECPv6.15.12.2//NONSGML v1.0//EN
CALSCALE:GREGORIAN
METHOD:PUBLISH
X-ORIGINAL-URL:https://associazioneadli.org
X-WR-CALDESC:Eventi per A.D.L.I.
REFRESH-INTERVAL;VALUE=DURATION:PT1H
X-Robots-Tag:noindex
X-PUBLISHED-TTL:PT1H
BEGIN:VTIMEZONE
TZID:UTC
BEGIN:STANDARD
TZOFFSETFROM:+0000
TZOFFSETTO:+0000
TZNAME:UTC
DTSTART:20240101T000000
END:STANDARD
END:VTIMEZONE
BEGIN:VEVENT
DTSTART;TZID=UTC:20251128T090000
DTEND;TZID=UTC:20251128T180000
DTSTAMP:20260423T210222
CREATED:20250709T072237Z
LAST-MODIFIED:20250715T054231Z
UID:16841-1764320400-1764352800@associazioneadli.org
SUMMARY:Addetto antincendio - Livello 2
DESCRIPTION:Il Corso di formazione per addetto antincendio livello 2  della durata complessiva di 8 ore\, assolve gli obblighi indicati nel D.lgs. 81/08\, T.U. Sicurezza e D.lgs. 106/09\, D.M. 10 marzo 1998\, allegato IX. Il corso prevede una prima parte teorica della durata di 5 ore in modalità videoconferenza ed una seconda di 3 ore di prova pratica che verranno programmate alla fine del corso. \nIl Corso di Antincendio Livello 2  è rivolto agli addetti antincendio in attività dove\, in generale\, sono presenti sostanze mediamente infiammabili\, dove le condizioni di esercizio offrono possibilità di sviluppo di focolai e ove sussistono probabilità di propagazione delle fiamme. (Vedasi\, a tal proposito\, le indicazioni contenute\, nell’allegato IX). \n\n\n\nScheda del Corso\n\n\nSvolgimento\nAula\n\n\nOre totali\n8 Ore in presenza\n\n\nAttestato\nRilascio attestato con profitto validato da Soggetto Formatore\n\n\nRequisiti\nNomina del lavoratore o designazione del Datore di lavoro e attestato di formazione antincendio Livello 2\n\n\nDestinatari\n1. Lavoratori dipendenti che sono designati alla lotta antincendio per le aziende a Livello 2 \n2. Datori di lavoro e/o titolari che si nominano direttamente responsabili della lotta antincendio in aziende che non hanno più di 5 lavoratori.\n\n\nProgramma\nL’incendio e la prevenzione; principi della combustione; prodotti della combustione; sostanze estinguenti in relazione al tipo di incendio; effetti dell’incendio sull’uomo; divieti e limitazioni d’esercizio; misure comportamentali; protezione antincendio e procedure da adottare in caso d’incendio; principali misure di prevenzione antincendio; evacuazione in caso d’incendio; chiamata dei soccorsi. Istruzioni e pratica avvalendosi di estintori portatili\, manichette UNI 45/70 e dispositivi di protezione individuale.\n\n\n\nRichiedi iscrizione al corso\nAbilita JavaScript nel browser per completare questo modulo.Abilita JavaScript nel browser per completare questo modulo.Sei convenzionato alla Associazione A.D.L.I.?* *SINONome *Cognome *Codice Fiscale *Vuoi iscrivere altri discenti? *SINOTipo di discente *AziendaPrivatoLibero ProfessionistaAltroEmail *Telefono *Ragione SocialeCodice promozionaleTrattamento dati personali *Autorizzo al trattamento dei dati personali in base al GDPR 2016/679 l'Associazione A.D.L.I. Informativa completa disponibile a questo indirizzo.Caselle di spunta *Autorizzo l'Associazione A.D.L.I. ad inviarmi informazioni sulle attività promosse da essa o da società ad essa collegateInvia
URL:https://associazioneadli.org/event/addetto-antincendio-livello-2-30/
LOCATION:TREVISO
CATEGORIES:Corsi in aula
END:VEVENT
BEGIN:VEVENT
DTSTART;TZID=UTC:20251128T130000
DTEND;TZID=UTC:20251128T150000
DTSTAMP:20260423T210222
CREATED:20250709T092720Z
LAST-MODIFIED:20250711T064252Z
UID:16884-1764334800-1764342000@associazioneadli.org
SUMMARY:Addetto antincendio - Livello 1 - Aggiornamento
DESCRIPTION:Il Corso di aggiornamento per addetto antincendio Livello 1  (della durata complessiva di 2 ore)\, assolve gli obblighi indicati nel D.lgs. 81/08\, T.U. Sicurezza e D.lgs. 106/09\, D.M. 10 marzo 1998\, allegato IX\, prevede due parti: la prima teorica svolgibile anche in modalità elearning ed una pratica della durata sempre di 1 ora che verrà fissata successivamente alla conclusione della videoconferenza. \nIl Corso di aggiornamento Antincendio Livello 1 prevede un esame finale di valutazione dell’apprendimento ed il rilascio di un attestato di frequenza con profitto valido su tutto il territorio nazionale. \n\n\n\nScheda del Corso\n\n\nSvolgimento\nAula\n\n\nOre totali\n2 Ore in presenza\n\n\nAttestato\nRilascio attestato con profitto validato da Soggetto Formatore\n\n\nRequisiti\nNomina del lavoratore o designazione del Datore di lavoro\n\n\nDestinatari\n1. Lavoratori dipendenti che sono designati alla lotta antincendio per le aziende a Livello 1 \n2. Datori di lavoro e/o titolari che si nominano direttamente responsabili della lotta antincendio in aziende che non hanno più di 5 lavoratori.\n\n\nProgramma\nL’incendio e la prevenzione; principi della combustione; prodotti della combustione; sostanze estinguenti in relazione al tipo di incendio; effetti dell’incendio sull’uomo; divieti e limitazioni d’esercizio; misure comportamentali; protezione antincendio e procedure da adottare in caso d’incendio; principali misure di prevenzione antincendio; evacuazione in caso d’incendio; chiamata dei soccorsi.\n\n\n\nRichiedi iscrizione al corso\n[gravityform id=”16″ title=”false” description=”false”]
URL:https://associazioneadli.org/event/addetto-antincendio-livello-1-aggiornamento-4/
LOCATION:TREVISO
CATEGORIES:Corsi in aula
END:VEVENT
BEGIN:VEVENT
DTSTART;TZID=UTC:20251128T130000
DTEND;TZID=UTC:20251128T170000
DTSTAMP:20260423T210222
CREATED:20250709T093825Z
LAST-MODIFIED:20250711T064313Z
UID:16901-1764334800-1764349200@associazioneadli.org
SUMMARY:Addetto antincendio - Livello 1
DESCRIPTION:Il Corso di formazione per addetto antincendio livello1 (della durata di 4 ore)\, assolve gli obblighi indicati nel D.lgs. 81/08\, T.U. Sicurezza e D.lgs. 106/09\, D.M. 237 del 04/10/2021.\nIl Corso di Antincendio livello 1 prevede 2 parti una teorica ed una pratica.\nIl Corso di Antincendio Livello 1 prevede un esame finale di valutazione dell’apprendimento ed il rilascio di un attestato di frequenza con profitto valido su tutto il territorio nazionale. \nIl Corso per addetto antincendio livello 1 di 4 ore\, è composto da una prima parte della durata di 2 ore di teoria svolgibile anche in modalità FAD (formazione a distanza) di tipo sincrono e con ricorso a lunguaggi multimediali che consentano l’impiego degli strumenti informatici quali canali di divulgazione dei contenuti formativi. e una seconda parte sempre di 2 ore di prova pratica. Il Corso è ritenuto valido\, così come da normativa nazionale\, con una frequenza pari o superiore al 90% \n\n\n\nScheda del Corso\n\n\nSvolgimento\nAula\n\n\nOre totali\n4 Ore in presenza\n\n\nAttestato\nRilascio attestato con profitto validato da Soggetto Formatore\n\n\nRequisiti\nNomina del lavoratore o designazione del Datore di lavoro\n\n\nDestinatari\n1. Lavoratori dipendenti che sono designati alla lotta antincendio per le aziende a Livello 1. \n2. Datori di lavoro e/o titolari che si nominano direttamente responsabili della lotta antincendio in aziende che non hanno più di 5 lavoratori.\n\n\nProgramma\n(1 ora)L’INCENDIO E LA PREVENZIONE; – Principi della combustione; – prodotti della combustione; – sostanze estinguenti in relazione al tipo di incendio; – effetti dell’incendio sull’uomo; – divieti e limitazioni di esercizio; – misure comportamentali. (1 ora) PROTEZIONE ANTINCENDIO E PROCEDURE DA ADOTTARE IN CASO DI INCENDIO; – Principali misure di protezione antincendio; – evacuazione in caso di incendio; – chiamata dei soccorsi. (2 ore) ESERCITAZIONI PRATICHE; – Presa visione e chiarimenti sugli estintori portatili; – esercitazioni sull’uso degli estintori portatili; – presa visione del registro antincendio\, chiarimenti ed esercitazione riguardante l’attività di sorveglianza.\n\n\n\nRichiedi iscrizione al corso\nAbilita JavaScript nel browser per completare questo modulo.Abilita JavaScript nel browser per completare questo modulo.Sei convenzionato alla Associazione A.D.L.I.?* *SINONome *Cognome *Codice Fiscale *Vuoi iscrivere altri discenti? *SINOTipo di discente *AziendaPrivatoLibero ProfessionistaAltroEmail *Telefono *Ragione SocialeCodice promozionaleTrattamento dati personali *Autorizzo al trattamento dei dati personali in base al GDPR 2016/679 l'Associazione A.D.L.I. Informativa completa disponibile a questo indirizzo.Caselle di spunta *Autorizzo l'Associazione A.D.L.I. ad inviarmi informazioni sulle attività promosse da essa o da società ad essa collegateInvia
URL:https://associazioneadli.org/event/addetto-antincendio-livello-1-4/
LOCATION:TREVISO
CATEGORIES:Corsi in aula
END:VEVENT
BEGIN:VEVENT
DTSTART;TZID=UTC:20251128T130000
DTEND;TZID=UTC:20251128T180000
DTSTAMP:20260423T210222
CREATED:20250709T073240Z
LAST-MODIFIED:20250711T064504Z
UID:16862-1764334800-1764352800@associazioneadli.org
SUMMARY:Addetto antincendio - Livello 2 - Aggiornamento
DESCRIPTION:Il Corso di aggiornamento Antincendio Livello 2 prevede un esame finale di valutazione dell’apprendimento ed il rilascio di un attestato di frequenza con profitto valido su tutto il territorio nazionale. \n\n\n\nScheda del Corso\n\n\nSvolgimento\nAula\n\n\nOre totali\n5 Ore in presenza\n\n\nAttestato\nRilascio attestato con profitto validato da Soggetto Formatore\n\n\nRequisiti\nNomina del lavoratore o designazione del Datore di lavoro\n\n\nDestinatari\n1. Lavoratori dipendenti che sono designati alla lotta antincendio per le aziende a Livello 2 \n2. Datori di lavoro e/o titolari che si nominano direttamente responsabili della lotta antincendio in aziende che non hanno più di 5 lavoratori.\n\n\nProgramma\nL’incendio e la prevenzione; principi della combustione; prodotti della combustione; sostanze estinguenti in relazione al tipo di incendio; effetti dell’incendio sull’uomo; divieti e limitazioni d’esercizio; misure comportamentali; protezione antincendio e procedure da adottare in caso d’incendio; principali misure di prevenzione antincendio; evacuazione in caso d’incendio; chiamata dei soccorsi.\n\n\n\nRichiedi iscrizione al corso \nAbilita JavaScript nel browser per completare questo modulo.Abilita JavaScript nel browser per completare questo modulo.Sei convenzionato alla Associazione A.D.L.I.?* *SINONome *Cognome *Codice Fiscale *Vuoi iscrivere altri discenti? *SINOTipo di discente *AziendaPrivatoLibero ProfessionistaAltroEmail *Telefono *Ragione SocialeCodice promozionaleTrattamento dati personali *Autorizzo al trattamento dei dati personali in base al GDPR 2016/679 l'Associazione A.D.L.I. Informativa completa disponibile a questo indirizzo.Caselle di spunta *Autorizzo l'Associazione A.D.L.I. ad inviarmi informazioni sulle attività promosse da essa o da società ad essa collegateInvia
URL:https://associazioneadli.org/event/addetto-antincendio-livello-2-aggiornamento-4/
LOCATION:TREVISO
CATEGORIES:Corsi in aula
END:VEVENT
END:VCALENDAR