BEGIN:VCALENDAR
VERSION:2.0
PRODID:-//A.D.L.I. - ECPv6.15.12.2//NONSGML v1.0//EN
CALSCALE:GREGORIAN
METHOD:PUBLISH
X-WR-CALNAME:A.D.L.I.
X-ORIGINAL-URL:https://associazioneadli.org
X-WR-CALDESC:Eventi per A.D.L.I.
REFRESH-INTERVAL;VALUE=DURATION:PT1H
X-Robots-Tag:noindex
X-PUBLISHED-TTL:PT1H
BEGIN:VTIMEZONE
TZID:UTC
BEGIN:STANDARD
TZOFFSETFROM:+0000
TZOFFSETTO:+0000
TZNAME:UTC
DTSTART:20250101T000000
END:STANDARD
END:VTIMEZONE
BEGIN:VEVENT
DTSTART;TZID=UTC:20260421T090000
DTEND;TZID=UTC:20260421T130000
DTSTAMP:20260423T081633
CREATED:20251113T164750Z
LAST-MODIFIED:20251113T164750Z
UID:17821-1776762000-1776776400@associazioneadli.org
SUMMARY:Aggiornamento R.L.S. - 4 h
DESCRIPTION:L’aggiornamento del Corso di Formazione per R.L.S. Rappresentante dei Lavori per la Sicurezza assolve gli obblighi previsti dall’articolo 37 comma 10 e Accordo Stato-Regioni n. 128/CSR del 07/07/16.\nIl Rappresentante dei Lavoratori per la Sicurezza ha diritto ad una formazione particolare in materia di salute e sicurezza\, concernente i rischi specifici esistenti negli ambiti in cui esercita la propria rappresentanza\, tale da assicurargli adeguate competenze sulle principali tecniche di controllo e prevenzione dei rischi stessi. \n\n\n\nScheda del Corso\n\n\nSvolgimento\nVideoconferenza\n\n\nOre totali\n4 Ore\n\n\nAttestato\nRilascio attestato con profitto validato da Soggetto Formatore\n\n\nRequisiti\nEssere lavoratori assunti in azienda\n\n\nDestinatari\nRivolto a uno o più lavoratori eletti o designati per rappresentare i restanti dipendenti dell’azienda per quanto concerne gli aspetti della salute e della sicurezza durante il lavoro.\n\n\nProgramma\nRuolo\, compiti\, e caratteristiche del R.L.S.; \nla figura del Rappresentante dei Lavoratori per la Sicurezza\, principi giuridici comunitari e nazionali\, \nLegislazione italiana in materia di salute e sicurezza sul lavoro\, principali; \nsoggetti coinvolti nella prevenzione e relativi obblighi; \nLa definizione e l’individuazione dei fattori di rischio\, la Valutazione dei Rischi\, definizione ed individuazione dei fattori di rischio; \nAspetti normativi dell’attività di rappresentanza dei lavoratori. \nIndividuazione delle misure tecniche\, organizzative e procedurali di prevenzione e protezione. \nNozioni di tecnica della comunicazione .\n\n\n\nRichiedi iscrizione al corso\n[gravityform id=”16″ title=”false” description=”false”]
URL:https://associazioneadli.org/event/aggiornamento-r-l-s-4-h-8/
CATEGORIES:Corsi in videoconferenza
END:VEVENT
BEGIN:VEVENT
DTSTART;TZID=UTC:20260421T090000
DTEND;TZID=UTC:20260421T180000
DTSTAMP:20260423T081633
CREATED:20251114T080221Z
LAST-MODIFIED:20251114T092902Z
UID:17885-1776762000-1776794400@associazioneadli.org
SUMMARY:Addetto antincendio - Livello 2
DESCRIPTION:Il Corso di aggiornamento Antincendio Livello 2 prevede un esame finale di valutazione dell’apprendimento ed il rilascio di un attestato di frequenza con profitto valido su tutto il territorio nazionale. \n\n\n\nScheda del Corso\n\n\nSvolgimento\nAula\n\n\nOre totali\n5 Ore in presenza\n\n\nAttestato\nRilascio attestato con profitto validato da Soggetto Formatore\n\n\nRequisiti\nNomina del lavoratore o designazione del Datore di lavoro\n\n\nDestinatari\n1. Lavoratori dipendenti che sono designati alla lotta antincendio per le aziende a Livello 2 \n2. Datori di lavoro e/o titolari che si nominano direttamente responsabili della lotta antincendio in aziende che non hanno più di 5 lavoratori.\n\n\nProgramma\nL’incendio e la prevenzione; principi della combustione; prodotti della combustione; sostanze estinguenti in relazione al tipo di incendio; effetti dell’incendio sull’uomo; divieti e limitazioni d’esercizio; misure comportamentali; protezione antincendio e procedure da adottare in caso d’incendio; principali misure di prevenzione antincendio; evacuazione in caso d’incendio; chiamata dei soccorsi.\n\n\n\nRichiedi iscrizione al corso \nAbilita JavaScript nel browser per completare questo modulo.Abilita JavaScript nel browser per completare questo modulo.Sei convenzionato alla Associazione A.D.L.I.?* *SINONome *Cognome *Codice Fiscale *Vuoi iscrivere altri discenti? *SINOTipo di discente *AziendaPrivatoLibero ProfessionistaAltroEmail *Telefono *Ragione SocialeCodice promozionaleTrattamento dati personali *Autorizzo al trattamento dei dati personali in base al GDPR 2016/679 l'Associazione A.D.L.I. Informativa completa disponibile a questo indirizzo.Caselle di spunta *Autorizzo l'Associazione A.D.L.I. ad inviarmi informazioni sulle attività promosse da essa o da società ad essa collegateInvia
URL:https://associazioneadli.org/event/addetto-antincendio-livello-2-38/
LOCATION:SSD VERTIGO SPORT CENTER – Via Adelaide Ristori\, 39 – 35127 Padova (PD)
CATEGORIES:Prove pratiche
END:VEVENT
BEGIN:VEVENT
DTSTART;TZID=UTC:20260421T130000
DTEND;TZID=UTC:20260421T150000
DTSTAMP:20260423T081633
CREATED:20251114T091418Z
LAST-MODIFIED:20251114T092329Z
UID:17989-1776776400-1776783600@associazioneadli.org
SUMMARY:Addetto antincendio - Livello 1 - Aggiornamento
DESCRIPTION:Il Corso di aggiornamento per addetto antincendio Livello 1  (della durata complessiva di 2 ore)\, assolve gli obblighi indicati nel D.lgs. 81/08\, T.U. Sicurezza e D.lgs. 106/09\, D.M. 10 marzo 1998\, allegato IX\, prevede due parti: la prima teorica svolgibile anche in modalità elearning ed una pratica della durata sempre di 1 ora che verrà fissata successivamente alla conclusione della videoconferenza. \nIl Corso di aggiornamento Antincendio Livello 1 prevede un esame finale di valutazione dell’apprendimento ed il rilascio di un attestato di frequenza con profitto valido su tutto il territorio nazionale. \n\n\n\nScheda del Corso\n\n\nSvolgimento\nAula\n\n\nOre totali\n2 Ore in presenza\n\n\nAttestato\nRilascio attestato con profitto validato da Soggetto Formatore\n\n\nRequisiti\nNomina del lavoratore o designazione del Datore di lavoro\n\n\nDestinatari\n1. Lavoratori dipendenti che sono designati alla lotta antincendio per le aziende a Livello 1 \n2. Datori di lavoro e/o titolari che si nominano direttamente responsabili della lotta antincendio in aziende che non hanno più di 5 lavoratori.\n\n\nProgramma\nL’incendio e la prevenzione; principi della combustione; prodotti della combustione; sostanze estinguenti in relazione al tipo di incendio; effetti dell’incendio sull’uomo; divieti e limitazioni d’esercizio; misure comportamentali; protezione antincendio e procedure da adottare in caso d’incendio; principali misure di prevenzione antincendio; evacuazione in caso d’incendio; chiamata dei soccorsi.\n\n\n\nRichiedi iscrizione al corso\n[gravityform id=”16″ title=”false” description=”false”]
URL:https://associazioneadli.org/event/addetto-antincendio-livello-1-aggiornamento-12/
LOCATION:SSD VERTIGO SPORT CENTER – Via Adelaide Ristori\, 39 – 35127 Padova (PD)
CATEGORIES:Prove pratiche
END:VEVENT
BEGIN:VEVENT
DTSTART;TZID=UTC:20260421T130000
DTEND;TZID=UTC:20260421T170000
DTSTAMP:20260423T081633
CREATED:20251114T083006Z
LAST-MODIFIED:20251114T092802Z
UID:17961-1776776400-1776790800@associazioneadli.org
SUMMARY:Addetto antincendio - Livello 1
DESCRIPTION:Il Corso di formazione per addetto antincendio livello1 (della durata di 4 ore)\, assolve gli obblighi indicati nel D.lgs. 81/08\, T.U. Sicurezza e D.lgs. 106/09\, D.M. 237 del 04/10/2021.\nIl Corso di Antincendio livello 1 prevede 2 parti una teorica ed una pratica.\nIl Corso di Antincendio Livello 1 prevede un esame finale di valutazione dell’apprendimento ed il rilascio di un attestato di frequenza con profitto valido su tutto il territorio nazionale. \nIl Corso per addetto antincendio livello 1 di 4 ore\, è composto da una prima parte della durata di 2 ore di teoria svolgibile anche in modalità FAD (formazione a distanza) di tipo sincrono e con ricorso a lunguaggi multimediali che consentano l’impiego degli strumenti informatici quali canali di divulgazione dei contenuti formativi. e una seconda parte sempre di 2 ore di prova pratica. Il Corso è ritenuto valido\, così come da normativa nazionale\, con una frequenza pari o superiore al 90% \n\n\n\nScheda del Corso\n\n\nSvolgimento\nAula\n\n\nOre totali\n4 Ore in presenza\n\n\nAttestato\nRilascio attestato con profitto validato da Soggetto Formatore\n\n\nRequisiti\nNomina del lavoratore o designazione del Datore di lavoro\n\n\nDestinatari\n1. Lavoratori dipendenti che sono designati alla lotta antincendio per le aziende a Livello 1. \n2. Datori di lavoro e/o titolari che si nominano direttamente responsabili della lotta antincendio in aziende che non hanno più di 5 lavoratori.\n\n\nProgramma\n(1 ora)L’INCENDIO E LA PREVENZIONE; – Principi della combustione; – prodotti della combustione; – sostanze estinguenti in relazione al tipo di incendio; – effetti dell’incendio sull’uomo; – divieti e limitazioni di esercizio; – misure comportamentali. (1 ora) PROTEZIONE ANTINCENDIO E PROCEDURE DA ADOTTARE IN CASO DI INCENDIO; – Principali misure di protezione antincendio; – evacuazione in caso di incendio; – chiamata dei soccorsi. (2 ore) ESERCITAZIONI PRATICHE; – Presa visione e chiarimenti sugli estintori portatili; – esercitazioni sull’uso degli estintori portatili; – presa visione del registro antincendio\, chiarimenti ed esercitazione riguardante l’attività di sorveglianza.\n\n\n\nRichiedi iscrizione al corso\nAbilita JavaScript nel browser per completare questo modulo.Abilita JavaScript nel browser per completare questo modulo.Sei convenzionato alla Associazione A.D.L.I.?* *SINONome *Cognome *Codice Fiscale *Vuoi iscrivere altri discenti? *SINOTipo di discente *AziendaPrivatoLibero ProfessionistaAltroEmail *Telefono *Ragione SocialeCodice promozionaleTrattamento dati personali *Autorizzo al trattamento dei dati personali in base al GDPR 2016/679 l'Associazione A.D.L.I. Informativa completa disponibile a questo indirizzo.Caselle di spunta *Autorizzo l'Associazione A.D.L.I. ad inviarmi informazioni sulle attività promosse da essa o da società ad essa collegateInvia
URL:https://associazioneadli.org/event/addetto-antincendio-livello-1-12/
LOCATION:SSD VERTIGO SPORT CENTER – Via Adelaide Ristori\, 39 – 35127 Padova (PD)
CATEGORIES:Prove pratiche
END:VEVENT
BEGIN:VEVENT
DTSTART;TZID=UTC:20260421T130000
DTEND;TZID=UTC:20260421T180000
DTSTAMP:20260423T081633
CREATED:20251114T083354Z
LAST-MODIFIED:20251114T092710Z
UID:17976-1776776400-1776794400@associazioneadli.org
SUMMARY:Addetto antincendio - Livello 2 - Aggiornamento
DESCRIPTION:Il Corso di aggiornamento Antincendio Livello 2 prevede un esame finale di valutazione dell’apprendimento ed il rilascio di un attestato di frequenza con profitto valido su tutto il territorio nazionale. \n\n\n\nScheda del Corso\n\n\nSvolgimento\nAula\n\n\nOre totali\n5 Ore in presenza\n\n\nAttestato\nRilascio attestato con profitto validato da Soggetto Formatore\n\n\nRequisiti\nNomina del lavoratore o designazione del Datore di lavoro\n\n\nDestinatari\n1. Lavoratori dipendenti che sono designati alla lotta antincendio per le aziende a Livello 2 \n2. Datori di lavoro e/o titolari che si nominano direttamente responsabili della lotta antincendio in aziende che non hanno più di 5 lavoratori.\n\n\nProgramma\nL’incendio e la prevenzione; principi della combustione; prodotti della combustione; sostanze estinguenti in relazione al tipo di incendio; effetti dell’incendio sull’uomo; divieti e limitazioni d’esercizio; misure comportamentali; protezione antincendio e procedure da adottare in caso d’incendio; principali misure di prevenzione antincendio; evacuazione in caso d’incendio; chiamata dei soccorsi.\n\n\n\nRichiedi iscrizione al corso \nAbilita JavaScript nel browser per completare questo modulo.Abilita JavaScript nel browser per completare questo modulo.Sei convenzionato alla Associazione A.D.L.I.?* *SINONome *Cognome *Codice Fiscale *Vuoi iscrivere altri discenti? *SINOTipo di discente *AziendaPrivatoLibero ProfessionistaAltroEmail *Telefono *Ragione SocialeCodice promozionaleTrattamento dati personali *Autorizzo al trattamento dei dati personali in base al GDPR 2016/679 l'Associazione A.D.L.I. Informativa completa disponibile a questo indirizzo.Caselle di spunta *Autorizzo l'Associazione A.D.L.I. ad inviarmi informazioni sulle attività promosse da essa o da società ad essa collegateInvia
URL:https://associazioneadli.org/event/addetto-antincendio-livello-2-aggiornamento-12/
LOCATION:SSD VERTIGO SPORT CENTER – Via Adelaide Ristori\, 39 – 35127 Padova (PD)
CATEGORIES:Prove pratiche
END:VEVENT
BEGIN:VEVENT
DTSTART;TZID=UTC:20260421T140000
DTEND;TZID=UTC:20260421T180000
DTSTAMP:20260423T081633
CREATED:20251114T074936Z
LAST-MODIFIED:20251114T074936Z
UID:17860-1776780000-1776794400@associazioneadli.org
SUMMARY:H.A.C.C.P. Igiene Alimentare
DESCRIPTION:La formazione HACCP è un adempimento obbligatorio secondo la normativa di riferimento\, attualmente in vigore\, il D.Lgs. 193/07\, derivante dai REG CE 852/2004\, 853/2004\, 854/2004; che è andata a sostituire il precedente D.Lgs 155/97. \n\n\n\nScheda del Corso\n\n\nSvolgimento\nVideoconferenza\n\n\nOre totali\nIn base alle normative regionali\n\n\nAttestato\nRilascio attestato con profitto validato da Soggetto Formatore\n\n\nRequisiti\nNessun requisito richiesto\n\n\nDestinatari\nResponsabile di industria alimentari es. Titolari di attività\, Responsabile della produzione\, Responsabile HACCP. \nAddetti di livello di rischio 2 es. Cuochi\, ristorazione collettiva \, scolastica\, aziendale\, ristoranti e affini etc. Pasticcieri\, gelatieri\, addetti gastronomia (produzione e vendita)\, addetti produzione pasta fresca\, addetti lavorazione latte e formaggi\, addetti macellazione\, selezionamento lavorazione\, trasformazione e vendita di carne\, pesce e molluschi\, addetti produzione ovoprodotti. \nAddetti di livello di rischio 1 es. baristi\, fornai ed addetti alla produzione di pizze e similari\, addetti alla vendita di alimenti sfusi e generi alimentari escluso ortofrutta \, addetti somministrazione/porzionamento pasti in strutture socio-assistenziali e scolastiche\n\n\nProgramma\nUNITA’ FORMATIVA 1: Rischi e pericoli alimentari\, chimici\, fisici\, microbiologia e loro prevenzione\, metodi di autocontrollo e principi di sistema HACCP\, Obblighi e responsabilità dell’industria alimentare. \nUNITA’ FORMATIVA 2: Le principali fonti costitutive di un piano di autocontrollo; identificazione dei punti critici\, loro monitoraggio e misure correttive. \nUNITA’ FORMATIVA 3: Conservazione degli alimenti approvvigionamento delle materiale prime\, pulizia e sanificazione dei locali e delle attrezzature; igiene del personale. \nUNITA’ FORMATIVA 4: Individuazione e controllo dei rischi specifici nelle principali fasi del processo produttivo delle singole tipologie di attività.\n\n\n\nRichiedi iscrizione al corso\nAbilita JavaScript nel browser per completare questo modulo.Abilita JavaScript nel browser per completare questo modulo.Sei convenzionato alla Associazione A.D.L.I.?* *SINONome *Cognome *Codice Fiscale *Vuoi iscrivere altri discenti? *SINOTipo di discente *AziendaPrivatoLibero ProfessionistaAltroEmail *Telefono *Ragione SocialeCodice promozionaleTrattamento dati personali *Autorizzo al trattamento dei dati personali in base al GDPR 2016/679 l'Associazione A.D.L.I. Informativa completa disponibile a questo indirizzo.Caselle di spunta *Autorizzo l'Associazione A.D.L.I. ad inviarmi informazioni sulle attività promosse da essa o da società ad essa collegateInvia
URL:https://associazioneadli.org/event/h-a-c-c-p-igiene-alimentare-47/
CATEGORIES:Corsi in videoconferenza
END:VEVENT
END:VCALENDAR